BEGIN:VCALENDAR
VERSION:2.0
PRODID:spatie/icalendar-generator
DESCRIPTION:אירועים מ-בית חינוך רחל המשוררת כפ
 ר סבא
X-WR-CALDESC:אירועים מ-בית חינוך רחל המשוררת כפ
 ר סבא
REFRESH-INTERVAL;VALUE=DURATION:PT1440M
X-PUBLISHED-TTL:PT1440M
BEGIN:VTIMEZONE
TZID:Etc/GMT+0
BEGIN:STANDARD
DTSTART:20181205T083000Z
TZOFFSETFROM:+0000
TZOFFSETTO:+0000
END:STANDARD
END:VTIMEZONE
BEGIN:VTIMEZONE
TZID:UTC
BEGIN:STANDARD
DTSTART:20250728T205936Z
TZOFFSETFROM:+0000
TZOFFSETTO:+0000
END:STANDARD
END:VTIMEZONE
BEGIN:VEVENT
UID:1444-28
DTSTAMP:20260424T205936Z
SUMMARY:טיול - שכבת ו
LOCATION:
ORGANIZER;CN=Public Submitter:MAILTO:
DTSTART;TZID=Etc/GMT+0;VALUE=DATE:20191027
DTEND;TZID=Etc/GMT+0;VALUE=DATE:20191028
X-ALT-DESC;FMTTYPE=TEXT/HTML:
CATEGORIES:General
URL;VALUE=URI:https://rachelks.co.il/mc-events/%d7%98%d7%99%d7%95%d7%9c-%d7
 %a9%d7%9b%d7%91%d7%aa-%d7%95/
METHOD:PUBLISH
END:VEVENT
BEGIN:VEVENT
UID:1443-27
DTSTAMP:20260424T205936Z
SUMMARY:סדנת מנהיגות/ חל\"ד - שכבת ד+ה
LOCATION:
ORGANIZER;CN=Public Submitter:MAILTO:
DTSTART;TZID=Etc/GMT+0;VALUE=DATE:20191027
DTEND;TZID=Etc/GMT+0;VALUE=DATE:20191028
X-ALT-DESC;FMTTYPE=TEXT/HTML:
CATEGORIES:General
URL;VALUE=URI:https://rachelks.co.il/mc-events/%d7%a1%d7%93%d7%a0%d7%aa-%d7
 %9e%d7%a0%d7%94%d7%99%d7%92%d7%95%d7%aa-%d7%a9%d7%9b%d7%91%d7%aa-%d7%93%d7
 %94/
METHOD:PUBLISH
END:VEVENT
BEGIN:VEVENT
UID:1442-26
DTSTAMP:20260424T205936Z
SUMMARY:שרים זה\"ב לשכבת א+ג
LOCATION:
ORGANIZER;CN=Public Submitter:MAILTO:
DTSTART;TZID=Etc/GMT+0:20191024T084500
DTEND;TZID=Etc/GMT+0:20191024T110000
X-ALT-DESC;FMTTYPE=TEXT/HTML:
CATEGORIES:General
URL;VALUE=URI:https://rachelks.co.il/mc-events/%d7%a9%d7%a8%d7%99%d7%9d-%d7
 %96%d7%94%d7%91-%d7%9c%d7%a9%d7%9b%d7%91%d7%aa-%d7%90%d7%92/
METHOD:PUBLISH
END:VEVENT
BEGIN:VEVENT
UID:1432-25
DTSTAMP:20260424T205936Z
SUMMARY:חופשת סוכות
LOCATION:
ORGANIZER;CN=Public Submitter:MAILTO:
RRULE:FREQ=DAILY;INTERVAL=1;COUNT=9
DTSTART;TZID=Etc/GMT+0;VALUE=DATE:20191013
DTEND;TZID=Etc/GMT+0;VALUE=DATE:20191014
X-ALT-DESC;FMTTYPE=TEXT/HTML:
CATEGORIES:General
URL;VALUE=URI:https://rachelks.co.il/mc-events/%d7%97%d7%95%d7%a4%d7%a9%d7%
 aa-%d7%a1%d7%95%d7%9b%d7%95%d7%aa/?mc_id=1432
METHOD:PUBLISH
END:VEVENT
BEGIN:VEVENT
UID:521-21
DTSTAMP:20260424T205936Z
SUMMARY:חופשת יום כיפור
LOCATION:
ORGANIZER;CN=Public Submitter:MAILTO:
DTSTART;TZID=Etc/GMT+0;VALUE=DATE:20191009
DTEND;TZID=Etc/GMT+0;VALUE=DATE:20191010
X-ALT-DESC;FMTTYPE=TEXT/HTML:
CATEGORIES:General
URL;VALUE=URI:https://rachelks.co.il/mc-events/%d7%97%d7%95%d7%a4%d7%a9%d7%
 aa-%d7%99%d7%95%d7%9d-%d7%9b%d7%99%d7%a4%d7%95%d7%a8/
METHOD:PUBLISH
END:VEVENT
BEGIN:VEVENT
UID:520-20
DTSTAMP:20260424T205936Z
SUMMARY:חופשת יום כיפור
LOCATION:
ORGANIZER;CN=Public Submitter:MAILTO:
DTSTART;TZID=Etc/GMT+0;VALUE=DATE:20191008
DTEND;TZID=Etc/GMT+0;VALUE=DATE:20191009
X-ALT-DESC;FMTTYPE=TEXT/HTML:
CATEGORIES:General
URL;VALUE=URI:https://rachelks.co.il/mc-events/%d7%97%d7%95%d7%a4%d7%a9%d7%
 aa-%d7%99%d7%95%d7%9d-%d7%9b%d7%99%d7%a4%d7%95%d7%a8-2/
METHOD:PUBLISH
END:VEVENT
BEGIN:VEVENT
UID:518-18
DTSTAMP:20260424T205936Z
SUMMARY:חופשת ראש השנה
LOCATION:
ORGANIZER;CN=Public Submitter:MAILTO:
DTSTART;TZID=Etc/GMT+0;VALUE=DATE:20191001
DTEND;TZID=Etc/GMT+0;VALUE=DATE:20191002
X-ALT-DESC;FMTTYPE=TEXT/HTML:
CATEGORIES:General
URL;VALUE=URI:https://rachelks.co.il/mc-events/%d7%97%d7%95%d7%a4%d7%a9%d7%
 aa-%d7%a8%d7%90%d7%a9-%d7%94%d7%a9%d7%a0%d7%94-3/
METHOD:PUBLISH
END:VEVENT
BEGIN:VEVENT
UID:517-17
DTSTAMP:20260424T205936Z
SUMMARY:חופשת ראש השנה
LOCATION:
ORGANIZER;CN=Public Submitter:MAILTO:
DTSTART;TZID=Etc/GMT+0;VALUE=DATE:20190930
DTEND;TZID=Etc/GMT+0;VALUE=DATE:20191001
X-ALT-DESC;FMTTYPE=TEXT/HTML:
CATEGORIES:General
URL;VALUE=URI:https://rachelks.co.il/mc-events/%d7%97%d7%95%d7%a4%d7%a9%d7%
 aa-%d7%a8%d7%90%d7%a9-%d7%94%d7%a9%d7%a0%d7%94-2/
METHOD:PUBLISH
END:VEVENT
BEGIN:VEVENT
UID:516-16
DTSTAMP:20260424T205936Z
SUMMARY:חופשת ראש השנה
LOCATION:
ORGANIZER;CN=Public Submitter:MAILTO:
DTSTART;TZID=Etc/GMT+0;VALUE=DATE:20190929
DTEND;TZID=Etc/GMT+0;VALUE=DATE:20190930
X-ALT-DESC;FMTTYPE=TEXT/HTML:
CATEGORIES:General
URL;VALUE=URI:https://rachelks.co.il/mc-events/%d7%97%d7%95%d7%a4%d7%a9%d7%
 aa-%d7%a8%d7%90%d7%a9-%d7%94%d7%a9%d7%a0%d7%94/
METHOD:PUBLISH
END:VEVENT
BEGIN:VEVENT
UID:14-14
DTSTAMP:20260424T205936Z
SUMMARY:מפגש שירה בית ספרי
LOCATION:
ORGANIZER;CN=Public Submitter:MAILTO:
DTSTART;TZID=Etc/GMT+0:20190927T081500
DTEND;TZID=Etc/GMT+0:20190927T235900
X-ALT-DESC;FMTTYPE=TEXT/HTML:
CATEGORIES:General
URL;VALUE=URI:https://rachelks.co.il/mc-events/%d7%9e%d7%a4%d7%92%d7%a9-%d7
 %a9%d7%99%d7%a8%d7%94-%d7%91%d7%99%d7%aa-%d7%a1%d7%a4%d7%a8%d7%99/
METHOD:PUBLISH
END:VEVENT
BEGIN:VEVENT
UID:13-13
DTSTAMP:20260424T205936Z
SUMMARY:יריד חוגים א-ג
LOCATION:
ORGANIZER;CN=Public Submitter:MAILTO:
DTSTART;TZID=Etc/GMT+0:20190913T110000
DTEND;TZID=Etc/GMT+0:20190913T235900
X-ALT-DESC;FMTTYPE=TEXT/HTML:
CATEGORIES:General
URL;VALUE=URI:https://rachelks.co.il/mc-events/%d7%99%d7%a8%d7%99%d7%93-%d7
 %97%d7%95%d7%92%d7%99%d7%9d-%d7%90-%d7%92/
METHOD:PUBLISH
END:VEVENT
BEGIN:VEVENT
UID:12-12
DTSTAMP:20260424T205936Z
SUMMARY:יריד חוגים ד-ו
LOCATION:
ORGANIZER;CN=Public Submitter:MAILTO:
DTSTART;TZID=Etc/GMT+0:20190913T103000
DTEND;TZID=Etc/GMT+0:20190913T235900
X-ALT-DESC;FMTTYPE=TEXT/HTML:
CATEGORIES:General
URL;VALUE=URI:https://rachelks.co.il/mc-events/%d7%99%d7%a8%d7%99%d7%93-%d7
 %97%d7%95%d7%92%d7%99%d7%9d-%d7%93-%d7%95/
METHOD:PUBLISH
END:VEVENT
BEGIN:VEVENT
UID:11-11
DTSTAMP:20260424T205936Z
SUMMARY:הצגה: הטרילוגיה של דניאל/תרבות יהודי
 ת ישראלית
LOCATION:
ORGANIZER;CN=Public Submitter:MAILTO:
DTSTART;TZID=Etc/GMT+0;VALUE=DATE:20190912
DTEND;TZID=Etc/GMT+0;VALUE=DATE:20190913
X-ALT-DESC;FMTTYPE=TEXT/HTML:
CATEGORIES:General
URL;VALUE=URI:https://rachelks.co.il/mc-events/%d7%94%d7%a6%d7%92%d7%94-%d7
 %94%d7%98%d7%a8%d7%99%d7%9c%d7%95%d7%92%d7%99%d7%94-%d7%a9%d7%9c-%d7%93%d7
 %a0%d7%99%d7%90%d7%9c-%d7%aa%d7%a8%d7%91%d7%95%d7%aa-%d7%99%d7%94%d7%95%d7
 %93%d7%99%d7%aa-%d7%99/
METHOD:PUBLISH
END:VEVENT
BEGIN:VEVENT
UID:10-10
DTSTAMP:20260424T205936Z
SUMMARY:אספת הורים א-ג
LOCATION:
ORGANIZER;CN=Public Submitter:MAILTO:
DTSTART;TZID=Etc/GMT+0:20190908T200000
DTEND;TZID=Etc/GMT+0:20190908T235900
X-ALT-DESC;FMTTYPE=TEXT/HTML:
CATEGORIES:General
URL;VALUE=URI:https://rachelks.co.il/mc-events/%d7%90%d7%a1%d7%a4%d7%aa-%d7
 %94%d7%95%d7%a8%d7%99%d7%9d-%d7%90-%d7%92/
METHOD:PUBLISH
END:VEVENT
BEGIN:VEVENT
UID:9-9
DTSTAMP:20260424T205936Z
SUMMARY:אספת הורים ד-ו
LOCATION:
ORGANIZER;CN=Public Submitter:MAILTO:
DTSTART;TZID=Etc/GMT+0:20190908T190000
DTEND;TZID=Etc/GMT+0:20190908T235900
X-ALT-DESC;FMTTYPE=TEXT/HTML:
CATEGORIES:General
URL;VALUE=URI:https://rachelks.co.il/mc-events/%d7%90%d7%a1%d7%a4%d7%aa-%d7
 %94%d7%95%d7%a8%d7%99%d7%9d-%d7%93-%d7%95/
METHOD:PUBLISH
END:VEVENT
BEGIN:VEVENT
UID:8-8
DTSTAMP:20260424T205936Z
SUMMARY:וועד מוסדי
LOCATION:
ORGANIZER;CN=Public Submitter:MAILTO:
DTSTART;TZID=Etc/GMT+0:20190916T200000
DTEND;TZID=Etc/GMT+0:20190916T235900
X-ALT-DESC;FMTTYPE=TEXT/HTML:
CATEGORIES:General
URL;VALUE=URI:https://rachelks.co.il/mc-events/%d7%95%d7%95%d7%a2%d7%93-%d7
 %9e%d7%95%d7%a1%d7%93%d7%99/
METHOD:PUBLISH
END:VEVENT
BEGIN:VEVENT
UID:7-7
DTSTAMP:20260424T205936Z
SUMMARY:בחירות - יום שבתון
LOCATION:
ORGANIZER;CN=Public Submitter:MAILTO:
DTSTART;TZID=Etc/GMT+0:20190917T080000
DTEND;TZID=Etc/GMT+0:20190917T080000
X-ALT-DESC;FMTTYPE=TEXT/HTML:
CATEGORIES:General
URL;VALUE=URI:https://rachelks.co.il/mc-events/%d7%91%d7%97%d7%99%d7%a8%d7%
 95%d7%aa-%d7%99%d7%95%d7%9d-%d7%a9%d7%91%d7%aa%d7%95%d7%9f/
METHOD:PUBLISH
END:VEVENT
BEGIN:VEVENT
UID:6-6
DTSTAMP:20260424T205936Z
SUMMARY:טקס תחילת שנה
LOCATION:
ORGANIZER;CN=Public Submitter:MAILTO:
DTSTART;TZID=Etc/GMT+0:20190901T083000
DTEND;TZID=Etc/GMT+0:20190901T090000
X-ALT-DESC;FMTTYPE=TEXT/HTML:
CATEGORIES:General
URL;VALUE=URI:https://rachelks.co.il/mc-events/%d7%98%d7%a7%d7%a1-%d7%aa%d7
 %97%d7%99%d7%9c%d7%aa-%d7%a9%d7%a0%d7%94/
METHOD:PUBLISH
END:VEVENT
END:VCALENDAR